BEGIN:VCALENDAR
VERSION:2.0
PRODID:-//Poupée Sant Celoni - ECPv6.15.20//NONSGML v1.0//EN
CALSCALE:GREGORIAN
METHOD:PUBLISH
X-WR-CALNAME:Poupée Sant Celoni
X-ORIGINAL-URL:https://poupeesantceloni.com
X-WR-CALDESC:Esdeveniments per Poupée Sant Celoni
REFRESH-INTERVAL;VALUE=DURATION:PT1H
X-Robots-Tag:noindex
X-PUBLISHED-TTL:PT1H
BEGIN:VTIMEZONE
TZID:Europe/Madrid
BEGIN:DAYLIGHT
TZOFFSETFROM:+0100
TZOFFSETTO:+0200
TZNAME:CEST
DTSTART:20230326T010000
END:DAYLIGHT
BEGIN:STANDARD
TZOFFSETFROM:+0200
TZOFFSETTO:+0100
TZNAME:CET
DTSTART:20231029T010000
END:STANDARD
BEGIN:DAYLIGHT
TZOFFSETFROM:+0100
TZOFFSETTO:+0200
TZNAME:CEST
DTSTART:20240331T010000
END:DAYLIGHT
BEGIN:STANDARD
TZOFFSETFROM:+0200
TZOFFSETTO:+0100
TZNAME:CET
DTSTART:20241027T010000
END:STANDARD
BEGIN:DAYLIGHT
TZOFFSETFROM:+0100
TZOFFSETTO:+0200
TZNAME:CEST
DTSTART:20250330T010000
END:DAYLIGHT
BEGIN:STANDARD
TZOFFSETFROM:+0200
TZOFFSETTO:+0100
TZNAME:CET
DTSTART:20251026T010000
END:STANDARD
END:VTIMEZONE
BEGIN:VEVENT
DTSTART;TZID=Europe/Madrid:20240803T233000
DTEND;TZID=Europe/Madrid:20240804T060000
DTSTAMP:20260419T221524
CREATED:20240730T105200Z
LAST-MODIFIED:20240730T105200Z
UID:9768-1722727800-1722751200@poupeesantceloni.com
SUMMARY:dissabte 3 d'agost
DESCRIPTION:Entrada anticipada 10€ (Entrada abans de les 2:30h\, més tard pagament de suplement de 2€)\, amb l’entrada anticipada tindràs preferència a la cua d’entrada\nEntrada a taquilla abans de les 2’30h 10€; després 13€\nInclou 1 combinat o 2 refrescs / cerveses\nEntrades limitades \nHorari: de 00:00h a 06:00h \nPàrquing privat amb seguretat: 2€ \nEntrada anticipada disponible fins les 23:30h o fins exhaurir existències \nNo es pot sortir el recinte\, en cas de sortir s’ha de comprar de nou l’entrada \nUn cop feta la comanda\, rebràs la teva entrada per correu electrònic. L’hauràs d’ensenyar amb el mòbil o en paper a la porta junt amb el teu DNI. En cas de qualsevol problema pots enviar un correu electrònic a info@poupeesantceloni.com o al nostre Instagram: @poupeesantceloni \nRecorda no compartir el teu QR\, ja que només es pot validar una vegada
URL:https://poupeesantceloni.com/entrada/dissabte-3-dagost/
LOCATION:Poupée Sant Celoni\, Sant Celoni\, Barcelona\, 08470\, Espanya
ATTACH;FMTTYPE=image/jpeg:https://poupeesantceloni.com/wp-content/uploads/2024/07/diss3agost.jpg
END:VEVENT
BEGIN:VEVENT
DTSTART;TZID=Europe/Madrid:20240802T233000
DTEND;TZID=Europe/Madrid:20240803T060000
DTSTAMP:20260419T221524
CREATED:20240730T104925Z
LAST-MODIFIED:20240730T104925Z
UID:9763-1722641400-1722664800@poupeesantceloni.com
SUMMARY:divendres 2 d'agost
DESCRIPTION:Entrada anticipada 10€ (Entrada abans de les 2:30h\, més tard pagament de suplement de 2€)\, amb l’entrada anticipada tindràs preferència a la cua d’entrada\nEntrada a taquilla abans de les 2’30h 10€; després 13€\nInclou 1 combinat o 2 refrescs / cerveses\nEntrades limitades \nHorari: de 00:00h a 06:00h \nPàrquing privat amb seguretat: 2€ \nEntrada anticipada disponible fins les 23:30h o fins exhaurir existències \nNo es pot sortir el recinte\, en cas de sortir s’ha de comprar de nou l’entrada \nUn cop feta la comanda\, rebràs la teva entrada per correu electrònic. L’hauràs d’ensenyar amb el mòbil o en paper a la porta junt amb el teu DNI. En cas de qualsevol problema pots enviar un correu electrònic a info@poupeesantceloni.com o al nostre Instagram: @poupeesantceloni \nRecorda no compartir el teu QR\, ja que només es pot validar una vegada
URL:https://poupeesantceloni.com/entrada/divendres-2-dagost/
LOCATION:Poupée Sant Celoni\, Sant Celoni\, Barcelona\, 08470\, Espanya
ATTACH;FMTTYPE=image/jpeg:https://poupeesantceloni.com/wp-content/uploads/2024/07/div2agost.jpg
END:VEVENT
BEGIN:VEVENT
DTSTART;TZID=Europe/Madrid:20240727T230000
DTEND;TZID=Europe/Madrid:20240728T060000
DTSTAMP:20260419T221524
CREATED:20240723T110348Z
LAST-MODIFIED:20240723T110348Z
UID:9024-1722121200-1722146400@poupeesantceloni.com
SUMMARY:dissabte 27 de juliol
DESCRIPTION:Entrada anticipada 10€ (Entrada abans de les 2:30h\, més tard pagament de suplement de 2€)\, amb l’entrada anticipada tindràs preferència a la cua d’entrada\nEntrada a taquilla abans de les 2’30h 10€; després 13€\nInclou 1 combinat o 2 refrescs / cerveses\nEntrades limitades \nHorari: de 00:00h a 06:00h \nPàrquing privat amb seguretat: 2€ \nEntrada anticipada disponible fins les 23:30h o fins exhaurir existències \nNo es pot sortir el recinte\, en cas de sortir s’ha de comprar de nou l’entrada \nUn cop feta la comanda\, rebràs la teva entrada per correu electrònic. L’hauràs d’ensenyar amb el mòbil o en paper a la porta junt amb el teu DNI. En cas de qualsevol problema pots enviar un correu electrònic a info@poupeesantceloni.com o al nostre Instagram: @poupeesantceloni \nRecorda no compartir el teu QR\, ja que només es pot validar una vegada
URL:https://poupeesantceloni.com/entrada/dissabte-27-de-juliol/
LOCATION:Poupée Sant Celoni\, Sant Celoni\, Barcelona\, 08470\, Espanya
ATTACH;FMTTYPE=image/jpeg:https://poupeesantceloni.com/wp-content/uploads/2024/07/FLYER-GENERIC-DIV-I-DISS_02-min.jpg
END:VEVENT
BEGIN:VEVENT
DTSTART;TZID=Europe/Madrid:20240726T233000
DTEND;TZID=Europe/Madrid:20240727T060000
DTSTAMP:20260419T221524
CREATED:20240723T110123Z
LAST-MODIFIED:20240723T110123Z
UID:9018-1722036600-1722060000@poupeesantceloni.com
SUMMARY:divendres 26 de juliol
DESCRIPTION:Entrada anticipada 10€ (Entrada abans de les 2:30h\, més tard pagament de suplement de 2€)\, amb l’entrada anticipada tindràs preferència a la cua d’entrada\nEntrada a taquilla abans de les 2’30h 10€; després 13€\nInclou 1 combinat o 2 refrescs / cerveses\nEntrades limitades \nHorari: de 00:00h a 06:00h \nPàrquing privat amb seguretat: 2€ \nEntrada anticipada disponible fins les 23:30h o fins exhaurir existències \nNo es pot sortir el recinte\, en cas de sortir s’ha de comprar de nou l’entrada \nUn cop feta la comanda\, rebràs la teva entrada per correu electrònic. L’hauràs d’ensenyar amb el mòbil o en paper a la porta junt amb el teu DNI. En cas de qualsevol problema pots enviar un correu electrònic a info@poupeesantceloni.com o al nostre Instagram: @poupeesantceloni \nRecorda no compartir el teu QR\, ja que només es pot validar una vegada
URL:https://poupeesantceloni.com/entrada/divendres-26-de-juliol/
LOCATION:Poupée Sant Celoni\, Sant Celoni\, Barcelona\, 08470\, Espanya
ATTACH;FMTTYPE=image/jpeg:https://poupeesantceloni.com/wp-content/uploads/2024/07/FLYER-GENERIC-DIV-I-DISS_01-min.jpg
END:VEVENT
BEGIN:VEVENT
DTSTART;TZID=Europe/Madrid:20240720T233000
DTEND;TZID=Europe/Madrid:20240721T060000
DTSTAMP:20260419T221524
CREATED:20240715T121348Z
LAST-MODIFIED:20240716T082738Z
UID:8136-1721518200-1721541600@poupeesantceloni.com
SUMMARY:dissabte 20 de juliol
DESCRIPTION:Entrada anticipada 10€ (Entrada abans de les 2:30h\, més tard pagament de suplement de 2€)\, amb l’entrada anticipada tindràs preferència a la cua d’entrada\nEntrada a taquilla abans de les 2’30h 10€; després 13€\nInclou 1 combinat o 2 refrescs / cerveses\nEntrades limitades / +18 anys \nHorari: de 00:00h a 06:00h \nPàrquing privat amb seguretat: 2€ \nEntrada anticipada disponible fins les 23:30h o fins exhaurir existències \nNo es pot sortir el recinte\, en cas de sortir s’ha de comprar de nou l’entrada \nUn cop feta la comanda\, rebràs la teva entrada per correu electrònic. L’hauràs d’ensenyar amb el mòbil o en paper a la porta junt amb el teu DNI. En cas de qualsevol problema pots enviar un correu electrònic a info@poupeesantceloni.com o al nostre Instagram: @poupeesantceloni \nRecorda no compartir el teu QR\, ja que només es pot validar una vegada
URL:https://poupeesantceloni.com/entrada/dissabte-20-de-juliol/
LOCATION:Poupée Sant Celoni\, Sant Celoni\, Barcelona\, 08470\, Espanya
ATTACH;FMTTYPE=image/jpeg:https://poupeesantceloni.com/wp-content/uploads/2024/07/diss20.jpg
END:VEVENT
BEGIN:VEVENT
DTSTART;TZID=Europe/Madrid:20240719T233000
DTEND;TZID=Europe/Madrid:20240720T060000
DTSTAMP:20260419T221524
CREATED:20240715T121222Z
LAST-MODIFIED:20240716T082805Z
UID:8133-1721431800-1721455200@poupeesantceloni.com
SUMMARY:divendres 19 de juliol
DESCRIPTION:Entrada anticipada 10€ (Entrada abans de les 2:30h\, més tard pagament de suplement de 2€)\, amb l’entrada anticipada tindràs preferència a la cua d’entrada\nEntrada a taquilla abans de les 2’30h 10€; després 13€\nInclou 1 combinat o 2 refrescs / cerveses\nEntrades limitades / +18 anys \nHorari: de 00:00h a 06:00h \nPàrquing privat amb seguretat: 2€ \nEntrada anticipada disponible fins les 23:30h o fins exhaurir existències \nNo es pot sortir el recinte\, en cas de sortir s’ha de comprar de nou l’entrada \nUn cop feta la comanda\, rebràs la teva entrada per correu electrònic. L’hauràs d’ensenyar amb el mòbil o en paper a la porta junt amb el teu DNI. En cas de qualsevol problema pots enviar un correu electrònic a info@poupeesantceloni.com o al nostre Instagram: @poupeesantceloni \nRecorda no compartir el teu QR\, ja que només es pot validar una vegada
URL:https://poupeesantceloni.com/entrada/divendres-19-de-juliol/
LOCATION:Poupée Sant Celoni\, Sant Celoni\, Barcelona\, 08470\, Espanya
ATTACH;FMTTYPE=image/jpeg:https://poupeesantceloni.com/wp-content/uploads/2024/07/div19.jpg
END:VEVENT
BEGIN:VEVENT
DTSTART;TZID=Europe/Madrid:20240713T233000
DTEND;TZID=Europe/Madrid:20240714T060000
DTSTAMP:20260419T221524
CREATED:20240711T120004Z
LAST-MODIFIED:20240711T143143Z
UID:7184-1720913400-1720936800@poupeesantceloni.com
SUMMARY:dissabte 13 de juliol
DESCRIPTION:Entrada anticipada 10€ (Entrada abans de les 2:30h\, més tard pagament de suplement de 2€)\, amb l’entrada anticipada tindràs preferència a la cua d’entrada\nEntrada a taquilla abans de les 2’30h 10€; després 13€\nInclou 1 combinat o 2 refrescs / cerveses\nEntrades limitades / +18 anys \nHorari: de 00:00h a 06:00h \nPàrquing privat amb seguretat: 2€ \nEntrada anticipada disponible fins les 23:30h o fins exhaurir existències \nNo es pot sortir el recinte\, en cas de sortir s’ha de comprar de nou l’entrada \nUn cop feta la comanda\, rebràs la teva entrada per correu electrònic. L’hauràs d’ensenyar amb el mòbil o en paper a la porta junt amb el teu DNI. En cas de qualsevol problema pots enviar un correu electrònic a info@poupeesantceloni.com o al nostre Instagram: @poupeesantceloni \nRecorda no compartir el teu QR\, ja que només es pot validar una vegada
URL:https://poupeesantceloni.com/entrada/dissabte-13-de-juliol/
LOCATION:Poupée Sant Celoni\, Sant Celoni\, Barcelona\, 08470\, Espanya
ATTACH;FMTTYPE=image/jpeg:https://poupeesantceloni.com/wp-content/uploads/2024/07/dissabte13-min.jpg
END:VEVENT
BEGIN:VEVENT
DTSTART;TZID=Europe/Madrid:20240712T233000
DTEND;TZID=Europe/Madrid:20240713T060000
DTSTAMP:20260419T221524
CREATED:20240711T120038Z
LAST-MODIFIED:20240711T143153Z
UID:7181-1720827000-1720850400@poupeesantceloni.com
SUMMARY:divendres 12 de juliol
DESCRIPTION:Entrada anticipada 10€ (Entrada abans de les 2:30h\, més tard pagament de suplement de 2€)\, amb l’entrada anticipada tindràs preferència a la cua d’entrada\nEntrada a taquilla abans de les 2’30h 10€; després 13€\nInclou 1 combinat o 2 refrescs / cerveses\nEntrades limitades / +18 anys \nHorari: de 00:00h a 06:00h \nPàrquing privat amb seguretat: 2€ \nEntrada anticipada disponible fins les 23:30h o fins exhaurir existències \nNo es pot sortir el recinte\, en cas de sortir s’ha de comprar de nou l’entrada \nUn cop feta la comanda\, rebràs la teva entrada per correu electrònic. L’hauràs d’ensenyar amb el mòbil o en paper a la porta junt amb el teu DNI. En cas de qualsevol problema pots enviar un correu electrònic a info@poupeesantceloni.com o al nostre Instagram: @poupeesantceloni \nRecorda no compartir el teu QR\, ja que només es pot validar una vegada
URL:https://poupeesantceloni.com/entrada/divendres-12-de-juliol/
LOCATION:Poupée Sant Celoni\, Sant Celoni\, Barcelona\, 08470\, Espanya
ATTACH;FMTTYPE=image/jpeg:https://poupeesantceloni.com/wp-content/uploads/2024/07/divendres12-min.jpg
END:VEVENT
BEGIN:VEVENT
DTSTART;TZID=Europe/Madrid:20240706T233000
DTEND;TZID=Europe/Madrid:20240707T060000
DTSTAMP:20260419T221524
CREATED:20240628T135955Z
LAST-MODIFIED:20240705T161421Z
UID:5114-1720308600-1720332000@poupeesantceloni.com
SUMMARY:dissabte 6 de juliol - POUPEE TORNA
DESCRIPTION:Entrada anticipada 10€ (Entrada abans de les 2:30h\, més tard pagament de suplement de 2€)\nEntrada a taquilla abans de les 2’30h 10€; després 13€\nInclou 1 combinat o 2 refrescs / cerveses\nEntrades limitades / +18 anys \nHorari: de 00:00h a 06:00h \nPàrquing privat amb seguretat: 2€ \nEntrada anticipada disponible fins les 23:30h o fins exhaurir existències \nUn cop feta la comanda\, rebràs la teva entrada per correu electrònic. L’hauràs d’ensenyar amb el mòbil o en paper a la porta junt amb el teu DNI. En cas de qualsevol problema pots enviar un correu electrònic a info@poupeesantceloni.com o al nostre Instagram: @poupeesantceloni \nRecorda no compartir el teu QR\, ja que només es pot validar una vegada
URL:https://poupeesantceloni.com/entrada/dissabte-6-de-juliol-poupee-torna/
LOCATION:Poupée Sant Celoni\, Sant Celoni\, Barcelona\, 08470\, Espanya
ATTACH;FMTTYPE=image/jpeg:https://poupeesantceloni.com/wp-content/uploads/2024/06/poupee-torna-5-6.jpg
END:VEVENT
BEGIN:VEVENT
DTSTART;TZID=Europe/Madrid:20240705T233000
DTEND;TZID=Europe/Madrid:20240706T060000
DTSTAMP:20260419T221524
CREATED:20240627T171235Z
LAST-MODIFIED:20240705T161429Z
UID:5038-1720222200-1720245600@poupeesantceloni.com
SUMMARY:divendres 5 de juliol - POUPEE TORNA
DESCRIPTION:Entrada anticipada 10€ (Entrada abans de les 2:30h\, més tard pagament de suplement de 2€)\nEntrada a taquilla abans de les 2’30h 10€; després 13€\nInclou 1 combinat o 2 refrescs / cerveses\nEntrades limitades / +16 anys (Sala Carpes) +18 anys (Sala Terrassa) \nHorari: de 00:00h a 06:00h \nPàrquing privat amb seguretat: 2€ \nEntrada anticipada disponible fins les 23:30h o fins a exhaurir existències \nUn cop feta la comanda\, rebràs la teva entrada per correu electrònic. L’hauràs d’ensenyar amb el mòbil o en paper a la porta junt amb el teu DNI. En cas de qualsevol problema pots enviar un correu electrònic a info@poupeesantceloni.com o al nostre Instagram: @poupeesantceloni \nRecorda no compartir el teu QR ja que només es pot validar una vegada
URL:https://poupeesantceloni.com/entrada/divendres-5-de-juliol-poupee-torna/
LOCATION:Poupée Sant Celoni\, Sant Celoni\, Barcelona\, 08470\, Espanya
ATTACH;FMTTYPE=image/jpeg:https://poupeesantceloni.com/wp-content/uploads/2024/06/poupee-torna-5-6.jpg
END:VEVENT
END:VCALENDAR